BEGIN:VCALENDAR
VERSION:2.0
PRODID:-//TYPO3/NONSGML Calendarize//EN
BEGIN:VEVENT
UID:calendarize-der-besondere-13-1-1
DTSTAMP:20260420T023135Z
DTSTART:20260426T090000Z
DTEND:20260425T220000Z
SUMMARY:Der Besondere
DESCRIPTION:
X-ALT-DESC;FMTTYPE=text/html:
LOCATION:Auferstehungskirche Neufahrn
END:VEVENT
END:VCALENDAR
