BEGIN:VCALENDAR
VERSION:2.0
PRODID:-//TYPO3/NONSGML Calendarize//EN
BEGIN:VEVENT
UID:calendarize-oekum-gottesdienst-auf-der-hallbergmooser-wiesn
DTSTAMP:20260421T134945Z
DTSTART:20260426T090000Z
DTEND:20260426T100000Z
SUMMARY:Ökum. Gottesdienst auf der Hallbergmooser Wiesn
DESCRIPTION:
X-ALT-DESC;FMTTYPE=text/html:
END:VEVENT
END:VCALENDAR
